
BEGIN:VCALENDAR
VERSION:2.0
PRODID:-//hacksw/handcal//NONSGML v1.0//EN
CALSCALE:GREGORIAN
BEGIN:VEVENT
DTEND:20230305T000000Z
UID:69ea4f7180d5cDTSTAMP:20260423T165721Z
LOCATION:
DESCRIPTION:https://www.absoluteyachts.com/en/absolute_event/austrian-boat-show-boot-tulln/
URL;VALUE=URI:https://www.messe-tulln.at/messe-kalender/austrian-boat-show-boot-tulln/
SUMMARY:Austrian Boat Show Boot Tulln
DTSTART:20230302T000000Z
END:VEVENT
END:VCALENDAR
