
BEGIN:VCALENDAR
VERSION:2.0
PRODID:-//hacksw/handcal//NONSGML v1.0//EN
CALSCALE:GREGORIAN
BEGIN:VEVENT
DTEND:20230917T000000Z
UID:69eb9f4b30fc6DTSTAMP:20260424T165019Z
LOCATION:
DESCRIPTION:https://www.absoluteyachts.com/en/absolute_event/cannes-yachting-festival/
URL;VALUE=URI:https://www.cannesyachtingfestival.com/fr-fr.html
SUMMARY:Cannes Yachting Festival
DTSTART:20230912T000000Z
END:VEVENT
END:VCALENDAR
