
BEGIN:VCALENDAR
VERSION:2.0
PRODID:-//hacksw/handcal//NONSGML v1.0//EN
CALSCALE:GREGORIAN
BEGIN:VEVENT
DTEND:20210418T000000Z
UID:69ea496d04848DTSTAMP:20260423T163141Z
LOCATION:
DESCRIPTION:https://www.absoluteyachts.com/en/absolute_event/japan-international-boat-show-4/
URL;VALUE=URI:https://www.marine-jbia.or.jp/boatshow2021/
SUMMARY:Japan International Boat Show
DTSTART:20210415T000000Z
END:VEVENT
END:VCALENDAR
