
BEGIN:VCALENDAR
VERSION:2.0
PRODID:-//hacksw/handcal//NONSGML v1.0//EN
CALSCALE:GREGORIAN
BEGIN:VEVENT
DTEND:20170416T000000Z
UID:69e794aee2ae3DTSTAMP:20260421T151558Z
LOCATION:
DESCRIPTION:https://www.absoluteyachts.com/en/absolute_event/navetta-days-novigrad-2017-2/
URL;VALUE=URI:https://goo.gl/vpJKva
SUMMARY:Navetta Days - Novigrad 2017
DTSTART:20170415T000000Z
END:VEVENT
END:VCALENDAR
