
BEGIN:VCALENDAR
VERSION:2.0
PRODID:-//hacksw/handcal//NONSGML v1.0//EN
CALSCALE:GREGORIAN
BEGIN:VEVENT
DTEND:20210131T000000Z
UID:69ea6080a75d3DTSTAMP:20260423T181008Z
LOCATION:
DESCRIPTION:https://www.absoluteyachts.com/en/absolute_event/seattle-boat-show-3/
URL;VALUE=URI:https://seattleboatshow.com/
SUMMARY:Seattle Boat Show Connected
DTSTART:20210128T000000Z
END:VEVENT
END:VCALENDAR
