
BEGIN:VCALENDAR
VERSION:2.0
PRODID:-//hacksw/handcal//NONSGML v1.0//EN
CALSCALE:GREGORIAN
BEGIN:VEVENT
DTEND:20170129T000000Z
UID:69e5e980d2dd5DTSTAMP:20260420T085320Z
LOCATION:Stockumer Kirchstraße
DESCRIPTION:https://www.absoluteyachts.com/it/absolute_event/boot-dusseldorf-2017/
URL;VALUE=URI:http://www.boat-duesseldorf.com
SUMMARY:Boot in Düsseldorf  2017
DTSTART:20170121T000000Z
END:VEVENT
END:VCALENDAR
