
BEGIN:VCALENDAR
VERSION:2.0
PRODID:-//hacksw/handcal//NONSGML v1.0//EN
CALSCALE:GREGORIAN
BEGIN:VEVENT
DTEND:20250518T000000Z
UID:69e570d648f1dDTSTAMP:20260420T001830Z
LOCATION:
DESCRIPTION:https://www.absoluteyachts.com/it/absolute_event/british-motor-yacht-show/
URL;VALUE=URI:https://www.britishmotoryachtshow.com/
SUMMARY:British Motor Yacht Show
DTSTART:20250515T000000Z
END:VEVENT
END:VCALENDAR
