
BEGIN:VCALENDAR
VERSION:2.0
PRODID:-//hacksw/handcal//NONSGML v1.0//EN
CALSCALE:GREGORIAN
BEGIN:VEVENT
DTEND:20200217T000000Z
UID:69ed33e34eba7DTSTAMP:20260425T213635Z
LOCATION:NEW DOWNTOWN LOCATION – One Herald Plaza\, located On Biscayne Bay from Sea Isle Marine to the MacArthur Causeway
DESCRIPTION:https://www.absoluteyachts.com/it/absolute_event/miami-yacht-show/
URL;VALUE=URI:https://www.miamiyachtshow.com/en/home.html
SUMMARY:Miami Yacht Show
DTSTART:20200213T000000Z
END:VEVENT
END:VCALENDAR
